BEGIN:VCALENDAR
VERSION:2.0
PRODID:-//UCLA Department of Chicana/o and Central American Studies - ECPv6.15.17.1//NONSGML v1.0//EN
CALSCALE:GREGORIAN
METHOD:PUBLISH
X-WR-CALNAME:UCLA Department of Chicana/o and Central American Studies
X-ORIGINAL-URL:https://ccas.ucla.edu
X-WR-CALDESC:Events for UCLA Department of Chicana/o and Central American Studies
REFRESH-INTERVAL;VALUE=DURATION:PT1H
X-Robots-Tag:noindex
X-PUBLISHED-TTL:PT1H
BEGIN:VTIMEZONE
TZID:America/Los_Angeles
BEGIN:DAYLIGHT
TZOFFSETFROM:-0800
TZOFFSETTO:-0700
TZNAME:PDT
DTSTART:20220313T100000
END:DAYLIGHT
BEGIN:STANDARD
TZOFFSETFROM:-0700
TZOFFSETTO:-0800
TZNAME:PST
DTSTART:20221106T090000
END:STANDARD
BEGIN:DAYLIGHT
TZOFFSETFROM:-0800
TZOFFSETTO:-0700
TZNAME:PDT
DTSTART:20230312T100000
END:DAYLIGHT
BEGIN:STANDARD
TZOFFSETFROM:-0700
TZOFFSETTO:-0800
TZNAME:PST
DTSTART:20231105T090000
END:STANDARD
BEGIN:DAYLIGHT
TZOFFSETFROM:-0800
TZOFFSETTO:-0700
TZNAME:PDT
DTSTART:20240310T100000
END:DAYLIGHT
BEGIN:STANDARD
TZOFFSETFROM:-0700
TZOFFSETTO:-0800
TZNAME:PST
DTSTART:20241103T090000
END:STANDARD
END:VTIMEZONE
BEGIN:VEVENT
DTSTART;TZID=America/Los_Angeles:20231102T090000
DTEND;TZID=America/Los_Angeles:20231102T170000
DTSTAMP:20260425T171942
CREATED:20231027T234132Z
LAST-MODIFIED:20231027T235502Z
UID:10653-1698915600-1698944400@ccas.ucla.edu
SUMMARY:The Inaugural Afro-Isthmus Symposium
DESCRIPTION:We cordially invite you to the Inaugural Afro-Isthmus Symposium with invited guests: Marielba Herrera (ES) & Heriberto Erquicia (ES).  \nDate: Thursday\, November 2th\, 2023 \nTime: 9:00 am – 5:00 pm \nLocation: Collins Room Alumni Center (UCLA) \n325 Westwood Plaza\, Los Angeles\, CA 90095 \n  \nLunch and light refreshments will be provided for symposium and mixer attendees. The closest parking for guests is UCLA Structure 8. \nPlease click the link to RSVP. Capacity is set at 60 attendees\, don’t miss on your chance to attend this great symposium!
URL:https://ccas.ucla.edu/event/afro-isthmus-symposium/
LOCATION:Collins Room Alumni Center (UCLA)  325 Westwood Plaza\, Los Angeles\, CA 90095\, 325 Westwood Plaza\, Los Angeles\, CA\, 90095\, United States
ATTACH;FMTTYPE=image/jpeg:https://ccas.ucla.edu/wp-content/uploads/2023/10/AfroIsthmus-Symposium-scaled.jpg
END:VEVENT
END:VCALENDAR