BEGIN:VCALENDAR
VERSION:2.0
PRODID:-//UCLA Department of Chicana/o and Central American Studies - ECPv6.15.17.1//NONSGML v1.0//EN
CALSCALE:GREGORIAN
METHOD:PUBLISH
X-ORIGINAL-URL:https://ccas.ucla.edu
X-WR-CALDESC:Events for UCLA Department of Chicana/o and Central American Studies
REFRESH-INTERVAL;VALUE=DURATION:PT1H
X-Robots-Tag:noindex
X-PUBLISHED-TTL:PT1H
BEGIN:VTIMEZONE
TZID:America/Los_Angeles
BEGIN:DAYLIGHT
TZOFFSETFROM:-0800
TZOFFSETTO:-0700
TZNAME:PDT
DTSTART:20220313T100000
END:DAYLIGHT
BEGIN:STANDARD
TZOFFSETFROM:-0700
TZOFFSETTO:-0800
TZNAME:PST
DTSTART:20221106T090000
END:STANDARD
BEGIN:DAYLIGHT
TZOFFSETFROM:-0800
TZOFFSETTO:-0700
TZNAME:PDT
DTSTART:20230312T100000
END:DAYLIGHT
BEGIN:STANDARD
TZOFFSETFROM:-0700
TZOFFSETTO:-0800
TZNAME:PST
DTSTART:20231105T090000
END:STANDARD
BEGIN:DAYLIGHT
TZOFFSETFROM:-0800
TZOFFSETTO:-0700
TZNAME:PDT
DTSTART:20240310T100000
END:DAYLIGHT
BEGIN:STANDARD
TZOFFSETFROM:-0700
TZOFFSETTO:-0800
TZNAME:PST
DTSTART:20241103T090000
END:STANDARD
END:VTIMEZONE
BEGIN:VEVENT
DTSTART;TZID=America/Los_Angeles:20231128T193000
DTEND;TZID=America/Los_Angeles:20231128T203000
DTSTAMP:20260425T153533
CREATED:20231111T002756Z
LAST-MODIFIED:20231111T004210Z
UID:10688-1701199800-1701203400@ccas.ucla.edu
SUMMARY:Artist Talk: Joey Terrill
DESCRIPTION:We cordially invite you to Artist Talk: Joey Terrill! Artist and retired Director of Global Advocacy & Partnerships for the AIDS Healthcare Foundation\, Joey Terrill\, speaks about his life’s work as an artist and activists focusing on issues facing queer Chicano communities in Los Angeles and beyond.  \nDate: Tuesday\, November 28th\, 2023 \nTime: 7:30 pm \nLocation: Hammer Museum  \n10899 Wilshire Boulevard\,  \nLos Angeles\, CA 90024 \nFor more information\, click the following link: Artist Talk: Joey Terrill.
URL:https://ccas.ucla.edu/event/artist-talk-joey-terrill/
LOCATION:Hammer Museum\, 10899 Wilshire Blvd\, Los Angeles\, CA\, 90024\, United States
ATTACH;FMTTYPE=image/jpeg:https://ccas.ucla.edu/wp-content/uploads/2023/11/JoeyTerrill_post.jpg
END:VEVENT
END:VCALENDAR