BEGIN:VCALENDAR
VERSION:2.0
PRODID:-//UCLA Department of Chicana/o and Central American Studies - ECPv6.15.17.1//NONSGML v1.0//EN
CALSCALE:GREGORIAN
METHOD:PUBLISH
X-ORIGINAL-URL:https://ccas.ucla.edu
X-WR-CALDESC:Events for UCLA Department of Chicana/o and Central American Studies
REFRESH-INTERVAL;VALUE=DURATION:PT1H
X-Robots-Tag:noindex
X-PUBLISHED-TTL:PT1H
BEGIN:VTIMEZONE
TZID:America/Los_Angeles
BEGIN:DAYLIGHT
TZOFFSETFROM:-0800
TZOFFSETTO:-0700
TZNAME:PDT
DTSTART:20230312T100000
END:DAYLIGHT
BEGIN:STANDARD
TZOFFSETFROM:-0700
TZOFFSETTO:-0800
TZNAME:PST
DTSTART:20231105T090000
END:STANDARD
BEGIN:DAYLIGHT
TZOFFSETFROM:-0800
TZOFFSETTO:-0700
TZNAME:PDT
DTSTART:20240310T100000
END:DAYLIGHT
BEGIN:STANDARD
TZOFFSETFROM:-0700
TZOFFSETTO:-0800
TZNAME:PST
DTSTART:20241103T090000
END:STANDARD
BEGIN:DAYLIGHT
TZOFFSETFROM:-0800
TZOFFSETTO:-0700
TZNAME:PDT
DTSTART:20250309T100000
END:DAYLIGHT
BEGIN:STANDARD
TZOFFSETFROM:-0700
TZOFFSETTO:-0800
TZNAME:PST
DTSTART:20251102T090000
END:STANDARD
BEGIN:DAYLIGHT
TZOFFSETFROM:-0800
TZOFFSETTO:-0700
TZNAME:PDT
DTSTART:20260308T100000
END:DAYLIGHT
BEGIN:STANDARD
TZOFFSETFROM:-0700
TZOFFSETTO:-0800
TZNAME:PST
DTSTART:20261101T090000
END:STANDARD
BEGIN:DAYLIGHT
TZOFFSETFROM:-0800
TZOFFSETTO:-0700
TZNAME:PDT
DTSTART:20270314T100000
END:DAYLIGHT
BEGIN:STANDARD
TZOFFSETFROM:-0700
TZOFFSETTO:-0800
TZNAME:PST
DTSTART:20271107T090000
END:STANDARD
END:VTIMEZONE
BEGIN:VEVENT
DTSTART;TZID=America/Los_Angeles:20241025T173000
DTEND;TZID=America/Los_Angeles:20241025T193000
DTSTAMP:20260422T154902
CREATED:20241017T191953Z
LAST-MODIFIED:20241017T191953Z
UID:11074-1729877400-1729884600@ccas.ucla.edu
SUMMARY:Gallery Talk: Patrick A. Polk and Charlene Villaseñor Black
DESCRIPTION:IN PERSON- RSVP\, please click here \nThe Department of Chicana/o and Central American Studies  is pleased to co-sponsor a gallery talk at the Fowler Museum featuring Professor of Art History and Chicana/o and Central American Studies and Associate Director of the Chicano Studies Research Center Charlene Villaseñor Black and Lilly Endowment Curator of Art and Religion Patrick A. Polk. Illuminating commentary on the exhibition Descanse en Paz: Memorial Paintings from 19th-Century Mexico will be paired with light refreshments in the courtyard. \nThis exhibition highlights two popular genres of 19th-century Mexican painting commemorating family members who no longer reside in the household— offering them a lasting presence in the home. The first intimately portrays deceased individuals in likenesses imbued with grief and tender remembrance. The subjects—often children—are shown full of life: some appear with toys in hand; others rest in peace (descanse en paz). The second genre is the uniquely Mexican monja coronada or “crowned nun” portrait. Images of flower-adorned “Brides of Christ” were commissioned by the families of women who took Catholic ecclesiastical vows and permanently embarked on cloistered lives. \nThe event will take place on Friday\, October 25 from 5:30pm to 7:30pm. All are welcome to attend. For more information and to RSVP\, please click here. To visit this event’s page\, please click here. \n 
URL:https://ccas.ucla.edu/event/gallery-talk-patrick-a-polk-and-charlene-villasenor-black/
END:VEVENT
BEGIN:VEVENT
DTSTART;TZID=America/Los_Angeles:20241030T093000
DTEND;TZID=America/Los_Angeles:20241104T150000
DTSTAMP:20260422T154902
CREATED:20241028T213656Z
LAST-MODIFIED:20241028T213656Z
UID:11106-1730280600-1730732400@ccas.ucla.edu
SUMMARY:UCLA CCAS Ph.D. Admission Information Sessions - October 30 and November 4th
DESCRIPTION:The Department of Chicana/o and Central American Studies is presenting two remote Admission Information Sessions on the Ph.D. program. \nDuring the Ph.D. information session\, we will discuss the admission process and program requirements. Please RSVP using the links provided. \n2025 CCAS Ph.D. Admissions Information Sessions \nDate: Wednesday\, October 30\, 2024\nTime 9:30 am -11:00am\nZOOM RSVP: https://ucla.zoom.us/meeting/register/tJwsduyqpzgjG9XCZajGm686f-wJRWjaRRRy \nDate : Monday\, November 4\, 2024\nTime : 3:00 pm-4:30 pm\nZOOM RSVP https://ucla.zoom.us/meeting/register/tJwkc-msrjguH9DTB2csoSGjrLepJI5hMvpt \nAdmissions Deadlines for Fall 2025: December 1\, 2024 \nAdmission Requirements Website: https://grad.ucla.edu/programs/social-sciences/chicana-o-and-central-american-studies-department/chicana-and-chicano-studies/#admission-requirements \nFor any questions\, please email Janeth Ruvalcaba\, the Graduate Advisor\, at janeth@chavez.ucla.edu \n 
URL:https://ccas.ucla.edu/event/ucla-ccas-ph-d-admission-information-sessions-october-30-and-november-4th/
END:VEVENT
BEGIN:VEVENT
DTSTART;TZID=America/Los_Angeles:20241103T170000
DTEND;TZID=America/Los_Angeles:20241103T203000
DTSTAMP:20260422T154902
CREATED:20241021T174624Z
LAST-MODIFIED:20241021T174624Z
UID:11088-1730653200-1730665800@ccas.ucla.edu
SUMMARY:Dia de Los Muertos- November 3\, 2024 at 5pm
DESCRIPTION:Join us on November 3rd\, from 5:00-8:30 pm\, for Dia De Los Muertos. Guided by Professor Martha Ramirez-Oropeza. \nLocation: 685 N Venice Blvd\, Venice\, CA\, 90291
URL:https://ccas.ucla.edu/event/dia-de-los-muertos-november-3-2024-at-5pm/
END:VEVENT
BEGIN:VEVENT
DTSTART;TZID=America/Los_Angeles:20241119T110000
DTEND;TZID=America/Los_Angeles:20241119T130000
DTSTAMP:20260422T154902
CREATED:20241104T174559Z
LAST-MODIFIED:20241104T174559Z
UID:11115-1732014000-1732021200@ccas.ucla.edu
SUMMARY:Book Talk: Laura Chávez-Moreno Presents "How Schools Make Race"
DESCRIPTION:Book Talk: Laura Chávez-Moreno Presents “How Schools Make Race”\n\n\n\n\n\n\nEvent Date:\n\nTuesday\, November 19\, 2024 – \n11:00am to 1:00pm\n\n\n\n\n\n\n\n\n\nEvent Location:\n\nCSRC Library – 144 Haines Hall\n\n\n\n\n\n\n\n\n\n\nLaura Chávez-Moreno\, assistant professor in the departments of Chicana/o and Central American Studies and Education\, will present her new book examining the pivotal role schools play in shaping concepts of race and Latinidad. How Schools Make Race: Teaching  Latinx Racialization in America (Harvard Education Press\, 2024) explores how curriculum\, pedagogy\, policy\, and language interact to define\, reinforce\, and blur these boundaries\, urging us to rethink our understanding of race and recognize Latinx as a racialized groupChavezMoreno-UCLA BookTalk Flyer updated (1) \nDiscussants:\nDr. Daniel Solórzano and Dr. Celia Lacayo \nModerator:\nDr. Inma García-Sánchez \n \n  \nPlease RSVP if you wish to attend a provided lunch. \n\n 
URL:https://ccas.ucla.edu/event/book-talk-laura-chavez-moreno-presents-how-schools-make-race/
END:VEVENT
BEGIN:VEVENT
DTSTART;TZID=America/Los_Angeles:20250226T110000
DTEND;TZID=America/Los_Angeles:20250226T130000
DTSTAMP:20260422T154902
CREATED:20250211T225348Z
LAST-MODIFIED:20250211T230335Z
UID:11268-1740567600-1740574800@ccas.ucla.edu
SUMMARY:Book Talk: Dr. Christopher Loperena Presents "The End of Paradise"
DESCRIPTION:Book Talk: Dr. Christopher Loperena Presents “The End of Paradise”\n\n\n\n\n\n\nDate: Wednesday\, February 26\, 2025\n\n\nTime: 11:00am to 1:00pm\n\n\n\n\n\nPlace: CSRC Library – 144 Haines Hall\n\n\n\n\n\nChristopher Loperena is Associate Professor in the Ph.D. Program in Anthropology at the Graduate Center of the City University of New York. His research examines Indigenous and Black territorial struggles\, land\, extractivism\, and the socio-spatial politics of economic development. He has also published on anthropological witnessing and cultural expertise. His book\, The Ends of Paradise: Race\, Extraction\, and the Struggle for Black Life in Honduras\, is with Stanford University Press. His work has appeared in journals such as American Anthropologist\, American Quarterly\, Cultural Anthropology\, Current Anthropology\, Geoforum\, and the Journal of Sustainable Tourism. \nDescription: \nThe future of Honduras begins and ends on the white sand beaches of Tela Bay on the country’s northeastern coast where Garifuna\, a Black Indigenous people\, have resided for over two hundred years. In The Ends of Paradise\, Christopher Loperena examines the Garifuna struggle for life and collective autonomy\, and demonstrates how this struggle challenges concerted efforts by the state and multilateral institutions to render both their lands and their culture into fungible tourism products. He reveals how purportedly inclusive tourism projects form part of a larger neoliberal\, extractivist development regime\, which remakes Black and Indigenous territories into frontiers of progress for the mestizo majority. \n \n  \n\n\n 
URL:https://ccas.ucla.edu/event/book-talk-christopher-loperena-moreno-presents-the-end-of-paradise/
END:VEVENT
BEGIN:VEVENT
DTSTART;TZID=America/Los_Angeles:20250520T081500
DTEND;TZID=America/Los_Angeles:20250520T180000
DTSTAMP:20260422T154902
CREATED:20250501T044916Z
LAST-MODIFIED:20250501T044916Z
UID:11393-1747728900-1747764000@ccas.ucla.edu
SUMMARY:[Symposium] Archival Futures: The Ephemera of Art\, Mobility and the Isthmus
DESCRIPTION:The Department of Chicana/o and Central American Studies at UCLA invites you to the symposium Archival Futures: The Ephemera of Art\, Mobility and the Isthmus. This day-long event will feature scholars\, community archivists\, artists and intellectuals based in Los Angeles and abroad to deeply engage the archives as those produced and looked after by Central American peoples subjected to historical negation. We ask\, in what ways do organic intellectuals\, scholarly dissidents\, and artists subvert “official archives?” How do they refuse the gaze of violence present in these ephemera and in the future archive? Join us as we create a space of critical and horizontal exchange rooted in many knowledges that exist and make the isthmus\, an isthmus that is mobile\, that defies ecological collapse\, and builds creative worlds of survivance and continuity.  \nDate: Tuesday\, May 20\, 2025 \nLocation: Room 158\, Hershey Hall Salon (in-person only) \nTime: 8:15am-6pm \nLunch & Dinner provided with RSVP at: https://bit.ly/archivalfuture \nArt & Archival Exhibit in Hershey Courtyard
URL:https://ccas.ucla.edu/event/symposium-archival-futures-the-ephemera-of-art-mobility-and-the-isthmus/
LOCATION:Hershey Hall\, 801 Hilgard Avenue\, Los Angeles\, CA\, 90095\, United States
ATTACH;FMTTYPE=image/png:https://ccas.ucla.edu/wp-content/uploads/2025/04/Post_IG_1080x1350_240425.png
END:VEVENT
BEGIN:VEVENT
DTSTART;TZID=America/Los_Angeles:20251112T160000
DTEND;TZID=America/Los_Angeles:20251112T170000
DTSTAMP:20260422T154902
CREATED:20251022T201354Z
LAST-MODIFIED:20251022T201354Z
UID:11568-1762963200-1762966800@ccas.ucla.edu
SUMMARY:2026 CCAS Ph.D. Admission Information Session
DESCRIPTION:The Department of Chicana/o and Central American Studies is presenting an Admission Information Session for the Ph.D. program. Please help us by sharing our flyer with anyone interested in applying to the Ph.D. Program.\n\nDuring the Ph.D. information session\, we will discuss the admission process and program requirements\, and we will answer any questions. Please RSVP using the links provided.
URL:https://ccas.ucla.edu/event/2026-ccas-ph-d-admission-information-session/
END:VEVENT
BEGIN:VEVENT
DTSTART;TZID=America/Los_Angeles:20251119T110000
DTEND;TZID=America/Los_Angeles:20251119T110000
DTSTAMP:20260422T154902
CREATED:20251117T174917Z
LAST-MODIFIED:20251117T175147Z
UID:11597-1763550000-1763550000@ccas.ucla.edu
SUMMARY:Book Talk: How Schools Make Race: Teaching Latinx Racialization in America
DESCRIPTION:Date: November 19\, 2025\nTime: 11:oo AM in Pacific Time\nRSVP: http://tinyurl.com/bahai-moreno\n\n\nHow do schools make us think about race? And where does Latinx fit in? In “How Schools Make Race\,” Laura Chávez-Moreno\, a researcher and former public school teacher\, shows how schools play a pivotal role in shaping the concept of race and racialized groups. In this talk\, she tells the story of how the teachers and students in a racially diverse Spanish-English bilingual education program grappled with conflicting ideas about race and about the Latinx category. Chávez-Moreno challenges us to reconsider what makes race and invites us to see Latinx as a racialized group. Her research reveals why this shift matters-–because how we think about race affects whether our schools can provide youth with an education that challenges racist ideas.\n\nSPEAKER: \n\nDr. Laura Chávez-Moreno\nAssistant Professor\, Department of Chicana/o & Central American Studies\, and Department of Education at UCLA\n\nLaura Chávez-Moreno is an award-winning scholar\, qualitative social scientist\, and assistant professor in the Department of Chicana/o & Central American Studies and the Department of Education at UCLA. She is the author of How Schools Make Race: Teaching Latinx Racialization in America\, published by Harvard Education Press\, which won the Book of the Year Award by an early career scholar from the American Association of Hispanics in Higher Education. Her book has been featured in several podcasts and popular media\, including the New Books Network and Ms. Magazine. Professor Chávez-Moreno’s research has been published in top-tier academic journals and recognized with prestigious awards from organizations such as the American Educational Research Association and the National Academy of Education/Spencer Foundation. In 2023\, she received the Alan C. Purves Award from the National Council of Teachers of English for her article\, “The continuum of racial literacies: Teacher practices countering whitestream bilingual education\,” published in Research in the Teaching of English. This annual award honors the article deemed most significant in advancing the field. Most recently\, Professor Chávez-Moreno was awarded the 2025 Emerging Scholars Award from the Critical Race Studies in Education Association. For more about her work\, please check out her website LauraChavezMoreno.com
URL:https://ccas.ucla.edu/event/book-talk-how-schools-make-race-teaching-latinx-racialization-in-america/
END:VEVENT
BEGIN:VEVENT
DTSTART;TZID=America/Los_Angeles:20260226T090000
DTEND;TZID=America/Los_Angeles:20260226T190000
DTSTAMP:20260422T154903
CREATED:20260127T210356Z
LAST-MODIFIED:20260319T203518Z
UID:11621-1772096400-1772132400@ccas.ucla.edu
SUMMARY:Professor Gaspar de Alba Retirement Symposium
DESCRIPTION:RSVP Link\nPlease join us for a celebration of Profe Gaspar De Alba’s incredible career and lasting legacy at UCLA. Let’s celebrate her research and impact!\nHosted by the UCLA Center for Musical Humanities in partnership with the Dean of Social Sciences and the Department of Chicana/o and Central American Studies\, “Queering Sor Juana” will include two panels and a showcase performance of arias from the opera JUANA\, which is based on Gaspar de Alba’s historical novel\, Sor Juana’s Second Dream. The opera premiered with Opera UCLA in 2019\, with two sold-out performances and a glowing review in The Los Angeles Times. \nFree and open to the public\, but all attendees must register online. Lunch and reception will be provided for the participants and first 50 registered guests only. \n“Otro Corazón 3: Queering Sor Juana” builds on past symposia organized by Alicia Gaspar de Alba in her “Corazón” series\,1 and is offered as part of a year-long celebration of her 32-year academic career at UCLA\, focusing on her lifetime of research and creative engagement with Sor Juana Inés de la Cruz\, the 17th-century Mexican nun/poet/scholar who is hailed all over the world as the “first feminist of the Americas” and the Mexican “Tenth Muse.” \n \n 
URL:https://ccas.ucla.edu/event/professor-gaspar-de-alba-retirement-symposium/
LOCATION:Northwest Campus Auditorium\, 350 De Neve Dr.\, Los Angeles\, CA\, 90095-1559\, United States
END:VEVENT
BEGIN:VEVENT
DTSTART;TZID=America/Los_Angeles:20260613T100000
DTEND;TZID=America/Los_Angeles:20260613T120000
DTSTAMP:20260422T154903
CREATED:20260319T205720Z
LAST-MODIFIED:20260319T205720Z
UID:11762-1781344800-1781352000@ccas.ucla.edu
SUMMARY:CCAS 2026 Commencement
DESCRIPTION:The faculty and staff of the Department of Chicana/o and Central American Studies look forward to celebrating our Class of 2026 Commencement\, Doctoral Hooding Ceremony\, and M.A. Commencement. \nThe Department Ceremony will be held on Saturday\, June 13\, 2026. Doors will open at 9:00 a.m.\, and the ceremony will take place from 10:00 a.m. to 12:00 p.m. \nMore information coming soon!
URL:https://ccas.ucla.edu/event/ccas-2026-commencement/
LOCATION:UCLA Sunset Village\, Covel Commons
ATTACH;FMTTYPE=image/jpeg:https://ccas.ucla.edu/wp-content/uploads/2026/03/image-for-event-commencement-20262.jpg
END:VEVENT
END:VCALENDAR