BEGIN:VCALENDAR
VERSION:2.0
PRODID:-//UCLA Department of Chicana/o and Central American Studies - ECPv6.15.17.1//NONSGML v1.0//EN
CALSCALE:GREGORIAN
METHOD:PUBLISH
X-ORIGINAL-URL:https://ccas.ucla.edu
X-WR-CALDESC:Events for UCLA Department of Chicana/o and Central American Studies
REFRESH-INTERVAL;VALUE=DURATION:PT1H
X-Robots-Tag:noindex
X-PUBLISHED-TTL:PT1H
BEGIN:VTIMEZONE
TZID:America/Los_Angeles
BEGIN:DAYLIGHT
TZOFFSETFROM:-0800
TZOFFSETTO:-0700
TZNAME:PDT
DTSTART:20250309T100000
END:DAYLIGHT
BEGIN:STANDARD
TZOFFSETFROM:-0700
TZOFFSETTO:-0800
TZNAME:PST
DTSTART:20251102T090000
END:STANDARD
BEGIN:DAYLIGHT
TZOFFSETFROM:-0800
TZOFFSETTO:-0700
TZNAME:PDT
DTSTART:20260308T100000
END:DAYLIGHT
BEGIN:STANDARD
TZOFFSETFROM:-0700
TZOFFSETTO:-0800
TZNAME:PST
DTSTART:20261101T090000
END:STANDARD
BEGIN:DAYLIGHT
TZOFFSETFROM:-0800
TZOFFSETTO:-0700
TZNAME:PDT
DTSTART:20270314T100000
END:DAYLIGHT
BEGIN:STANDARD
TZOFFSETFROM:-0700
TZOFFSETTO:-0800
TZNAME:PST
DTSTART:20271107T090000
END:STANDARD
END:VTIMEZONE
BEGIN:VEVENT
DTSTART;TZID=America/Los_Angeles:20260226T090000
DTEND;TZID=America/Los_Angeles:20260226T190000
DTSTAMP:20260419T185316
CREATED:20260127T210356Z
LAST-MODIFIED:20260319T203518Z
UID:11621-1772096400-1772132400@ccas.ucla.edu
SUMMARY:Professor Gaspar de Alba Retirement Symposium
DESCRIPTION:RSVP Link\nPlease join us for a celebration of Profe Gaspar De Alba’s incredible career and lasting legacy at UCLA. Let’s celebrate her research and impact!\nHosted by the UCLA Center for Musical Humanities in partnership with the Dean of Social Sciences and the Department of Chicana/o and Central American Studies\, “Queering Sor Juana” will include two panels and a showcase performance of arias from the opera JUANA\, which is based on Gaspar de Alba’s historical novel\, Sor Juana’s Second Dream. The opera premiered with Opera UCLA in 2019\, with two sold-out performances and a glowing review in The Los Angeles Times. \nFree and open to the public\, but all attendees must register online. Lunch and reception will be provided for the participants and first 50 registered guests only. \n“Otro Corazón 3: Queering Sor Juana” builds on past symposia organized by Alicia Gaspar de Alba in her “Corazón” series\,1 and is offered as part of a year-long celebration of her 32-year academic career at UCLA\, focusing on her lifetime of research and creative engagement with Sor Juana Inés de la Cruz\, the 17th-century Mexican nun/poet/scholar who is hailed all over the world as the “first feminist of the Americas” and the Mexican “Tenth Muse.” \n \n 
URL:https://ccas.ucla.edu/event/professor-gaspar-de-alba-retirement-symposium/
LOCATION:Northwest Campus Auditorium\, 350 De Neve Dr.\, Los Angeles\, CA\, 90095-1559\, United States
END:VEVENT
BEGIN:VEVENT
DTSTART;TZID=America/Los_Angeles:20260613T100000
DTEND;TZID=America/Los_Angeles:20260613T120000
DTSTAMP:20260419T185316
CREATED:20260319T205720Z
LAST-MODIFIED:20260319T205720Z
UID:11762-1781344800-1781352000@ccas.ucla.edu
SUMMARY:CCAS 2026 Commencement
DESCRIPTION:The faculty and staff of the Department of Chicana/o and Central American Studies look forward to celebrating our Class of 2026 Commencement\, Doctoral Hooding Ceremony\, and M.A. Commencement. \nThe Department Ceremony will be held on Saturday\, June 13\, 2026. Doors will open at 9:00 a.m.\, and the ceremony will take place from 10:00 a.m. to 12:00 p.m. \nMore information coming soon!
URL:https://ccas.ucla.edu/event/ccas-2026-commencement/
LOCATION:UCLA Sunset Village\, Covel Commons
ATTACH;FMTTYPE=image/jpeg:https://ccas.ucla.edu/wp-content/uploads/2026/03/image-for-event-commencement-20262.jpg
END:VEVENT
END:VCALENDAR