BEGIN:VCALENDAR
VERSION:2.0
PRODID:-//UCLA Department of Chicana/o and Central American Studies - ECPv6.15.17.1//NONSGML v1.0//EN
CALSCALE:GREGORIAN
METHOD:PUBLISH
X-WR-CALNAME:UCLA Department of Chicana/o and Central American Studies
X-ORIGINAL-URL:https://ccas.ucla.edu
X-WR-CALDESC:Events for UCLA Department of Chicana/o and Central American Studies
REFRESH-INTERVAL;VALUE=DURATION:PT1H
X-Robots-Tag:noindex
X-PUBLISHED-TTL:PT1H
BEGIN:VTIMEZONE
TZID:America/Los_Angeles
BEGIN:DAYLIGHT
TZOFFSETFROM:-0800
TZOFFSETTO:-0700
TZNAME:PDT
DTSTART:20220313T100000
END:DAYLIGHT
BEGIN:STANDARD
TZOFFSETFROM:-0700
TZOFFSETTO:-0800
TZNAME:PST
DTSTART:20221106T090000
END:STANDARD
BEGIN:DAYLIGHT
TZOFFSETFROM:-0800
TZOFFSETTO:-0700
TZNAME:PDT
DTSTART:20230312T100000
END:DAYLIGHT
BEGIN:STANDARD
TZOFFSETFROM:-0700
TZOFFSETTO:-0800
TZNAME:PST
DTSTART:20231105T090000
END:STANDARD
BEGIN:DAYLIGHT
TZOFFSETFROM:-0800
TZOFFSETTO:-0700
TZNAME:PDT
DTSTART:20240310T100000
END:DAYLIGHT
BEGIN:STANDARD
TZOFFSETFROM:-0700
TZOFFSETTO:-0800
TZNAME:PST
DTSTART:20241103T090000
END:STANDARD
END:VTIMEZONE
BEGIN:VEVENT
DTSTART;TZID=America/Los_Angeles:20230927T133000
DTEND;TZID=America/Los_Angeles:20230927T150000
DTSTAMP:20260425T184833
CREATED:20230909T002605Z
LAST-MODIFIED:20230911T170527Z
UID:10479-1695821400-1695826800@ccas.ucla.edu
SUMMARY:2023 CCAS OPEN HOUSE
DESCRIPTION:Hello new and continuing students and community members\, \nWe cordially invite you to the Department of Chicana/o and Central American Studies Open House! We are having our Open House in person\, in front of UCLA Bunche Hall elevators\, on Wednesday\, September 27\, 2023\, from 1:30 pm – 3:00 pm.  \nPlease join us and bring your friends. You will meet our department faculty\, graduate students\, TAs\, and network with students in the major and minor! If interested in adding the major or minor(s)\, meet with Ellie\, our phenomenal undergraduate advisor.  \nPizza and refreshments will be provided! Join us for an evening of networking\, music\, and more!  \nIf you have any questions\, please contact our undergraduate student advisor “Ellie” Hernandez at studentadvisor@chavez.ucla.edu.  \nThe deadline to RSVP for yourself or to table as part of a Student Organization is Friday\, September 22.  \nRSVP CLICK HERE \nDate: Wednesday\, September 27\, 2023 \nTime: 1:30 pm – 3:00 pm \nLocation: Bunche Hall South Patio (by the elevators)
URL:https://ccas.ucla.edu/event/2023-ccas-open-house/
LOCATION:Bunche Hall\, 11282 Portola Plaza\, Los Angeles\, CA\, 90095-1559\, United States
END:VEVENT
END:VCALENDAR