BEGIN:VCALENDAR
VERSION:2.0
PRODID:-//UCLA Department of Chicana/o and Central American Studies - ECPv6.15.17.1//NONSGML v1.0//EN
CALSCALE:GREGORIAN
METHOD:PUBLISH
X-ORIGINAL-URL:https://ccas.ucla.edu
X-WR-CALDESC:Events for UCLA Department of Chicana/o and Central American Studies
REFRESH-INTERVAL;VALUE=DURATION:PT1H
X-Robots-Tag:noindex
X-PUBLISHED-TTL:PT1H
BEGIN:VTIMEZONE
TZID:America/Los_Angeles
BEGIN:DAYLIGHT
TZOFFSETFROM:-0800
TZOFFSETTO:-0700
TZNAME:PDT
DTSTART:20220313T100000
END:DAYLIGHT
BEGIN:STANDARD
TZOFFSETFROM:-0700
TZOFFSETTO:-0800
TZNAME:PST
DTSTART:20221106T090000
END:STANDARD
BEGIN:DAYLIGHT
TZOFFSETFROM:-0800
TZOFFSETTO:-0700
TZNAME:PDT
DTSTART:20230312T100000
END:DAYLIGHT
BEGIN:STANDARD
TZOFFSETFROM:-0700
TZOFFSETTO:-0800
TZNAME:PST
DTSTART:20231105T090000
END:STANDARD
BEGIN:DAYLIGHT
TZOFFSETFROM:-0800
TZOFFSETTO:-0700
TZNAME:PDT
DTSTART:20240310T100000
END:DAYLIGHT
BEGIN:STANDARD
TZOFFSETFROM:-0700
TZOFFSETTO:-0800
TZNAME:PST
DTSTART:20241103T090000
END:STANDARD
END:VTIMEZONE
BEGIN:VEVENT
DTSTART;TZID=America/Los_Angeles:20231205T153000
DTEND;TZID=America/Los_Angeles:20231205T170000
DTSTAMP:20260425T134637
CREATED:20240408T162922Z
LAST-MODIFIED:20240408T162922Z
UID:10854-1701790200-1701795600@ccas.ucla.edu
SUMMARY:CCAS Talk by Cynthia Vázquez: "We Start at Dusk:" Peon Playing and the (Re)connect of Kumeyaay Transborder Sovereignties on the U.S./Mexico Border Copy
DESCRIPTION:We cordially invite you to a CCAS Talk by Cynthia Vázquez:  \nTitle: “We Start at Dusk:” Peon Playing and the (Re)connect of Kumeyaay Transborder Sovereignties on the U.S./Mexico Border \nAbstract: The U.S./Mexico border serves as a buffer zone where various state-level legalities are enforced\, and it is constantly under surveillance by the U.S. and Mexico governments. Today\, state-sponsored surveillance and border settler-colonialities operate in tandem to dispossess tribal nations whose traditional lands overlap multiple settler borders. For the Kumeyaay nation\, whose traditional homelands straddle the San Diego-Tijuana region\, and whose migratory cycles have been intertwined with generations of knowledge exchange\, the border has ruptured their sense of nationhood. Presently\, Kumeyaay in Mexico are seeking to reconnect with their counterparts in the U.S. through the reclamation and revitalization of the ancestral game of Peon. Playing Peon is connected to larger questions surrounding language reclamation efforts and Indigenous sovereignties in California and Baja California. How do border tribes assert their sovereignty amid increasing restrictive border policies? How do the Kumeyaay reclaim a game that has been dormant for more than 60 years? This talk will highlight grassroots efforts to reclaim Peon on both sides of the border\, transborder reconnections\, and the processes in reclaiming Peon. The larger scope of this talk will focus on how Indigenous sovereignties are implemented and practiced on the border historically and presently based off of my ten year community and tribally approved based research. \nBiography: Dr. Vazquez is a Chancellor’s Postdoctoral Fellow in the American Indian Studies Center at UCLA. She received her doctorate from UC San Diego in Ethnic Studies with a graduate specialization in Critical Gender Studies. Trained as an interdisciplinary scholar in humanities and social sciences\, her research is situated at the nexus of critical theories of Indigenous transborder migrations\, Indigeneity\, settler-colonialism\, binational schooling\, Indigenous & border epistemologies\, and Latinidad. Her pronouns are she/her/hers. Born in LA\, brought up in Las Vegas\, she’s called San Diego her home for ten years. Cynthia identifies as Xicana and is deeply involved in relationship making with artists and local tribal community based on land pedagogies\, liberatory practices\, and resistance. \nDate: Tuesday\, December 5th\, 2023 \nTime: 3:30 – 5:00 pm \nLocation: Kaplan Hall\, A48
URL:https://ccas.ucla.edu/event/ccas-talk-cynthia-vazquez-copy/
LOCATION:Kaplan Hall\, A48
ATTACH;FMTTYPE=image/jpeg:https://ccas.ucla.edu/wp-content/uploads/2023/11/CynthiaVazquez_SocialMedia.jpg
END:VEVENT
END:VCALENDAR