BEGIN:VCALENDAR
VERSION:2.0
PRODID:-//UCLA Department of Chicana/o and Central American Studies - ECPv6.15.17.1//NONSGML v1.0//EN
CALSCALE:GREGORIAN
METHOD:PUBLISH
X-ORIGINAL-URL:https://ccas.ucla.edu
X-WR-CALDESC:Events for UCLA Department of Chicana/o and Central American Studies
REFRESH-INTERVAL;VALUE=DURATION:PT1H
X-Robots-Tag:noindex
X-PUBLISHED-TTL:PT1H
BEGIN:VTIMEZONE
TZID:America/Los_Angeles
BEGIN:DAYLIGHT
TZOFFSETFROM:-0800
TZOFFSETTO:-0700
TZNAME:PDT
DTSTART:20240310T100000
END:DAYLIGHT
BEGIN:STANDARD
TZOFFSETFROM:-0700
TZOFFSETTO:-0800
TZNAME:PST
DTSTART:20241103T090000
END:STANDARD
BEGIN:DAYLIGHT
TZOFFSETFROM:-0800
TZOFFSETTO:-0700
TZNAME:PDT
DTSTART:20250309T100000
END:DAYLIGHT
BEGIN:STANDARD
TZOFFSETFROM:-0700
TZOFFSETTO:-0800
TZNAME:PST
DTSTART:20251102T090000
END:STANDARD
BEGIN:DAYLIGHT
TZOFFSETFROM:-0800
TZOFFSETTO:-0700
TZNAME:PDT
DTSTART:20260308T100000
END:DAYLIGHT
BEGIN:STANDARD
TZOFFSETFROM:-0700
TZOFFSETTO:-0800
TZNAME:PST
DTSTART:20261101T090000
END:STANDARD
END:VTIMEZONE
BEGIN:VEVENT
DTSTART;TZID=America/Los_Angeles:20251112T160000
DTEND;TZID=America/Los_Angeles:20251112T170000
DTSTAMP:20260419T094728
CREATED:20251022T201354Z
LAST-MODIFIED:20251022T201354Z
UID:11568-1762963200-1762966800@ccas.ucla.edu
SUMMARY:2026 CCAS Ph.D. Admission Information Session
DESCRIPTION:The Department of Chicana/o and Central American Studies is presenting an Admission Information Session for the Ph.D. program. Please help us by sharing our flyer with anyone interested in applying to the Ph.D. Program.\n\nDuring the Ph.D. information session\, we will discuss the admission process and program requirements\, and we will answer any questions. Please RSVP using the links provided.
URL:https://ccas.ucla.edu/event/2026-ccas-ph-d-admission-information-session/
END:VEVENT
BEGIN:VEVENT
DTSTART;TZID=America/Los_Angeles:20251119T110000
DTEND;TZID=America/Los_Angeles:20251119T110000
DTSTAMP:20260419T094728
CREATED:20251117T174917Z
LAST-MODIFIED:20251117T175147Z
UID:11597-1763550000-1763550000@ccas.ucla.edu
SUMMARY:Book Talk: How Schools Make Race: Teaching Latinx Racialization in America
DESCRIPTION:Date: November 19\, 2025\nTime: 11:oo AM in Pacific Time\nRSVP: http://tinyurl.com/bahai-moreno\n\n\nHow do schools make us think about race? And where does Latinx fit in? In “How Schools Make Race\,” Laura Chávez-Moreno\, a researcher and former public school teacher\, shows how schools play a pivotal role in shaping the concept of race and racialized groups. In this talk\, she tells the story of how the teachers and students in a racially diverse Spanish-English bilingual education program grappled with conflicting ideas about race and about the Latinx category. Chávez-Moreno challenges us to reconsider what makes race and invites us to see Latinx as a racialized group. Her research reveals why this shift matters-–because how we think about race affects whether our schools can provide youth with an education that challenges racist ideas.\n\nSPEAKER: \n\nDr. Laura Chávez-Moreno\nAssistant Professor\, Department of Chicana/o & Central American Studies\, and Department of Education at UCLA\n\nLaura Chávez-Moreno is an award-winning scholar\, qualitative social scientist\, and assistant professor in the Department of Chicana/o & Central American Studies and the Department of Education at UCLA. She is the author of How Schools Make Race: Teaching Latinx Racialization in America\, published by Harvard Education Press\, which won the Book of the Year Award by an early career scholar from the American Association of Hispanics in Higher Education. Her book has been featured in several podcasts and popular media\, including the New Books Network and Ms. Magazine. Professor Chávez-Moreno’s research has been published in top-tier academic journals and recognized with prestigious awards from organizations such as the American Educational Research Association and the National Academy of Education/Spencer Foundation. In 2023\, she received the Alan C. Purves Award from the National Council of Teachers of English for her article\, “The continuum of racial literacies: Teacher practices countering whitestream bilingual education\,” published in Research in the Teaching of English. This annual award honors the article deemed most significant in advancing the field. Most recently\, Professor Chávez-Moreno was awarded the 2025 Emerging Scholars Award from the Critical Race Studies in Education Association. For more about her work\, please check out her website LauraChavezMoreno.com
URL:https://ccas.ucla.edu/event/book-talk-how-schools-make-race-teaching-latinx-racialization-in-america/
END:VEVENT
END:VCALENDAR